BEGIN:VCALENDAR
METHOD:PUBLISH
PRODID:www-dhss-phil-fau-de//Events//DE
VERSION:2.0
BEGIN:VEVENT
SUMMARY:Hackerspace Praxis // Laurence Anthony: Integrating traditiona
 l corpus methods with AI using the AntConc corpus analysis toolkit
UID:0c0b-ca09-34b2-66935@www.dhss.phil.fau.de
DESCRIPTION:Sondertermin im Rahmen des Hackerspace zur Vertiefung von 
 praktischen Kenntnissen. Weitere Infos und Übersicht aller Sonderterm
 ine hier
DTSTART:20240625T181500Z
DTEND:20240625T194500Z
LOCATION:Raum 03.11 (3. Obergeschoss)\, Werner-von-Siemens-Str. 61\, 9
 1052 Erlangen
DTSTAMP:20260420T025057Z
END:VEVENT
END:VCALENDAR