BEGIN:VCALENDAR
METHOD:PUBLISH
PRODID:www-dhss-phil-fau-de//Events//DE
VERSION:2.0
BEGIN:VEVENT
SUMMARY:Adrian Schneider\, DHSS\, FAU: Smart\, green\, sustainable? Th
 e role of sustainability in German smart city strategy papers.
UID:2abc-d494-46f2-68126@www.dhss.phil.fau.de
DESCRIPTION:The Department of Digital Humanities and Social Studies wo
 uld like to invite you to the following talk in our DH Colloquium: Adr
 ian Schneider: »Smart\, green\, sustainable? The role of sustainabili
 ty in German smart city strategy papers. « Further information and ot
 her upcoming talks in the Colloquium can be found here.
DTSTART:20250611T161500Z
DTEND:20250611T174500Z
LOCATION:Raum 3.17 (3. OG)\, Werner-von-Siemens-Straße 61\, 91052 Erlangen
DTSTAMP:20260421T164050Z
END:VEVENT
END:VCALENDAR